Workbook

Sheet 発見ログ
A1: 発見順 | B1: ファイル名 | C1: 行 | D1: 発見物 | E1: 一覧掲載確認
A2: 1 | E2: =IF(COUNTIF(発見物一覧!$C$2:'発見物一覧'!$C$5000,D2)=1,"掲載","未掲載") -> 未掲載
A3: 2 | E3: =IF(COUNTIF(発見物一覧!$C$2:'発見物一覧'!$C$5000,D3)=1,"掲載","未掲載") -> 未掲載
A4: 3 | E4: =IF(COUNTIF(発見物一覧!$C$2:'発見物一覧'!$C$5000,D4)=1,"掲載","未掲載") -> 未掲載
A5: 4 | E5: =IF(COUNTIF(発見物一覧!$C$2:'発見物一覧'!$C$5000,D5)=1,"掲載","未掲載") -> 未掲載
A6: 5 | E6: =IF(COUNTIF(発見物一覧!$C$2:'発見物一覧'!$C$5000,D6)=1,"掲載","未掲載") -> 未掲載
A7: 6 | E7: =IF(COUNTIF(発見物一覧!$C$2:'発見物一覧'!$C$5000,D7)=1,"掲載","未掲載") -> 未掲載
A8: 7 | E8: =IF(COUNTIF(発見物一覧!$C$2:'発見物一覧'!$C$5000,D8)=1,"掲載","未掲載") -> 未掲載
A9: 8 | E9: =IF(COUNTIF(発見物一覧!$C$2:'発見物一覧'!$C$5000,D9)=1,"掲載","未掲載") -> 未掲載
A10: 9 | E10: =IF(COUNTIF(発見物一覧!$C$2:'発見物一覧'!$C$5000,D10)=1,"掲載","未掲載") -> 未掲載
A11: 10 | E11: =IF(COUNTIF(発見物一覧!$C$2:'発見物一覧'!$C$5000,D11)=1,"掲載","未掲載") -> 未掲載
A12: 11 | E12: =IF(COUNTIF(発見物一覧!$C$2:'発見物一覧'!$C$5000,D12)=1,"掲載","未掲載") -> 未掲載
A13: 12 | E13: =IF(COUNTIF(発見物一覧!$C$2:'発見物一覧'!$C$5000,D13)=1,"掲載","未掲載") -> 未掲載
... A2746: 2745 | E2746: =IF(COUNTIF(発見物一覧!$C$2:'発見物一覧'!$C$5000,D2746)=1,"掲載","未掲載") -> 未掲載
A2747: 2746
A2748: 2747
A2749: 2748
A2750: 2749
A2751: 2750
A2752: 2751
A2753: 2752
A2754: 2753
A2755: 2754
A2756: 2755
A2757: 2756
A2758: 2757
... A5001: 5000

Sheet 発見物一覧
A1: No | B1: 種別 | C1: 発見物名 | D1: 関連クエスト | E1: 発見済みチェック | F1: 重複チェック
A2: 1 | B2: 史跡 | C2: アッピア街道 | D2: すべての道はローマに通ず | E2: =IF(COUNTIF(発見ログ!$D$2:'発見ログ'!$D$5000,C2)=1,B2&"発見済み","") | F2: =IF(COUNTIF($C$2:$C$5000,C2)=1,"","重複")
A3: 2 | B3: 史跡 | C3: アフィントンの白馬 | D3: 美しい白馬 | E3: =IF(COUNTIF(発見ログ!$D$2:'発見ログ'!$D$5000,C3)=1,B3&"発見済み","") | F3: =IF(COUNTIF($C$2:$C$5000,C3)=1,"","重複")
A4: 3 | B4: 史跡 | C4: アポロ・エピクリウス神殿 | D4: もうひとつのアポロン神殿 | E4: =IF(COUNTIF(発見ログ!$D$2:'発見ログ'!$D$5000,C4)=1,B4&"発見済み","") | F4: =IF(COUNTIF($C$2:$C$5000,C4)=1,"","重複")
A5: 4 | B5: 史跡 | C5: アラム・ムルの神の門 | D5: 古代の謎の遺跡 | E5: =IF(COUNTIF(発見ログ!$D$2:'発見ログ'!$D$5000,C5)=1,B5&"発見済み","") | F5: =IF(COUNTIF($C$2:$C$5000,C5)=1,"","重複")
A6: 5 | B6: 史跡 | C6: アルタイ山脈の岩刻絵群 | D6: 山壁の絵 | E6: =IF(COUNTIF(発見ログ!$D$2:'発見ログ'!$D$5000,C6)=1,B6&"発見済み","") | F6: =IF(COUNTIF($C$2:$C$5000,C6)=1,"","重複")
A7: 6 | B7: 史跡 | C7: アルテミス神殿跡 | D7: 神殿の真実 | E7: =IF(COUNTIF(発見ログ!$D$2:'発見ログ'!$D$5000,C7)=1,B7&"発見済み","") | F7: =IF(COUNTIF($C$2:$C$5000,C7)=1,"","重複")
A8: 7 | B8: 史跡 | C8: ウル | D8: 古代メソポタミアの都市 | E8: =IF(COUNTIF(発見ログ!$D$2:'発見ログ'!$D$5000,C8)=1,B8&"発見済み","") | F8: =IF(COUNTIF($C$2:$C$5000,C8)=1,"","重複")
A9: 8 | B9: 史跡 | C9: ウルク | D9: 伝説の王にまつわる遺跡 | E9: =IF(COUNTIF(発見ログ!$D$2:'発見ログ'!$D$5000,C9)=1,B9&"発見済み","") | F9: =IF(COUNTIF($C$2:$C$5000,C9)=1,"","重複")
A10: 9 | B10: 史跡 | C10: ウルル | D10: 砂漠の向こうの聖地 | E10: =IF(COUNTIF(発見ログ!$D$2:'発見ログ'!$D$5000,C10)=1,B10&"発見済み","") | F10: =IF(COUNTIF($C$2:$C$5000,C10)=1,"","重複")
A11: 10 | B11: 史跡 | C11: エピダウロス遺跡 | D11: 医療の神の聖地 | E11: =IF(COUNTIF(発見ログ!$D$2:'発見ログ'!$D$5000,C11)=1,B11&"発見済み","") | F11: =IF(COUNTIF($C$2:$C$5000,C11)=1,"","重複")
A12: 11 | B12: 史跡 | C12: エル・カズネ | D12: 探索すべきものは | E12: =IF(COUNTIF(発見ログ!$D$2:'発見ログ'!$D$5000,C12)=1,B12&"発見済み","") | F12: =IF(COUNTIF($C$2:$C$5000,C12)=1,"","重複")
A13: 12 | B13: 史跡 | C13: オリンピア遺跡 | D13: ゼウスに捧げる祭典 | E13: =IF(COUNTIF(発見ログ!$D$2:'発見ログ'!$D$5000,C13)=1,B13&"発見済み","") | F13: =IF(COUNTIF($C$2:$C$5000,C13)=1,"","重複")
... A3118: 3117 | B3118: 美術品 | C3118: 大聖堂のステンドグラス | D3118: ステンドグラス の魅力 | E3118: =IF(COUNTIF(発見ログ!$D$2:'発見ログ'!$D$5000,C3118)=1,B3118&"発見済み","") | F3118: =IF(COUNTIF($C$2:$C$5000,C3118)=1,"","重複")
A3119: 3118 | B3119: 海洋生物 | C3119: オオホモラ | D3119: オオホモラ | E3119: =IF(COUNTIF(発見ログ!$D$2:'発見ログ'!$D$5000,C3119)=1,B3119&"発見済み","")
A3120: 3119 | B3120: 海洋生物 | C3120: トリカジカ | D3120: トリカジカ | E3120: =IF(COUNTIF(発見ログ!$D$2:'発見ログ'!$D$5000,C3120)=1,B3120&"発見済み","")
A3121: 3120 | B3121: 海洋生物 | C3121: レッドテールキャット | D3121: レッドテールキャット | E3121: =IF(COUNTIF(発見ログ!$D$2:'発見ログ'!$D$5000,C3121)=1,B3121&"発見済み","")

Sheet 表
A1: 種類 | B1: 総数 | C1: 発見数 | D1: 発見率 | E1: 残り
A2: 史跡 | B2: =COUNTIF(発見物一覧!$B$2:'発見物一覧'!$B$5000,A2) -> 95 | C2: =COUNTIF(発見物一覧!$E$2:'発見物一覧'!$E$5000,A2&"発見済み") -> 0 | D2: =C2/B2 -> 0 | E2: =B2-C2 -> 95
A3: 宗教建築 | B3: =COUNTIF(発見物一覧!$B$2:'発見物一覧'!$B$5000,A3) -> 49 | C3: =COUNTIF(発見物一覧!$E$2:'発見物一覧'!$E$5000,A3&"発見済み") -> 0 | D3: =C3/B3 -> 0 | E3: =B3-C3 -> 49
A4: 歴史遺物 | B4: =COUNTIF(発見物一覧!$B$2:'発見物一覧'!$B$5000,A4) -> 415 | C4: =COUNTIF(発見物一覧!$E$2:'発見物一覧'!$E$5000,A4&"発見済み") -> 0 | D4: =C4/B4 -> 0 | E4: =B4-C4 -> 415
A5: 宗教遺物 | B5: =COUNTIF(発見物一覧!$B$2:'発見物一覧'!$B$5000,A5) -> 272 | C5: =COUNTIF(発見物一覧!$E$2:'発見物一覧'!$E$5000,A5&"発見済み") -> 0 | D5: =C5/B5 -> 0 | E5: =B5-C5 -> 272
A6: 美術品 | B6: =COUNTIF(発見物一覧!$B$2:'発見物一覧'!$B$5000,A6) -> 153 | C6: =COUNTIF(発見物一覧!$E$2:'発見物一覧'!$E$5000,A6&"発見済み") -> 0 | D6: =C6/B6 -> 0 | E6: =B6-C6 -> 153
A7: 財宝 | B7: =COUNTIF(発見物一覧!$B$2:'発見物一覧'!$B$5000,A7) -> 347 | C7: =COUNTIF(発見物一覧!$E$2:'発見物一覧'!$E$5000,A7&"発見済み") -> 0 | D7: =C7/B7 -> 0 | E7: =B7-C7 -> 347
A8: 化石 | B8: =COUNTIF(発見物一覧!$B$2:'発見物一覧'!$B$5000,A8) -> 51 | C8: =COUNTIF(発見物一覧!$E$2:'発見物一覧'!$E$5000,A8&"発見済み") -> 0 | D8: =C8/B8 -> 0 | E8: =B8-C8 -> 51
A9: 植物 | B9: =COUNTIF(発見物一覧!$B$2:'発見物一覧'!$B$5000,A9) -> 167 | C9: =COUNTIF(発見物一覧!$E$2:'発見物一覧'!$E$5000,A9&"発見済み") -> 0 | D9: =C9/B9 -> 0 | E9: =B9-C9 -> 167
A10: 虫類 | B10: =COUNTIF(発見物一覧!$B$2:'発見物一覧'!$B$5000,A10) -> 70 | C10: =COUNTIF(発見物一覧!$E$2:'発見物一覧'!$E$5000,A10&"発見済み") -> 0 | D10: =C10/B10 -> 0 | E10: =B10-C10 -> 70
A11: 鳥類 | B11: =COUNTIF(発見物一覧!$B$2:'発見物一覧'!$B$5000,A11) -> 142 | C11: =COUNTIF(発見物一覧!$E$2:'発見物一覧'!$E$5000,A11&"発見済み") -> 0 | D11: =C11/B11 -> 0 | E11: =B11-C11 -> 142
A12: 小型生物 | B12: =COUNTIF(発見物一覧!$B$2:'発見物一覧'!$B$5000,A12) -> 111 | C12: =COUNTIF(発見物一覧!$E$2:'発見物一覧'!$E$5000,A12&"発見済み") -> 0 | D12: =C12/B12 -> 0 | E12: =B12-C12 -> 111
A13: 中型生物 | B13: =COUNTIF(発見物一覧!$B$2:'発見物一覧'!$B$5000,A13) -> 121 | C13: =COUNTIF(発見物一覧!$E$2:'発見物一覧'!$E$5000,A13&"発見済み") -> 0 | D13: =C13/B13 -> 0 | E13: =B13-C13 -> 121
... A19: 気象・現象 | B19: =COUNTIF(発見物一覧!$B$2:'発見物一覧'!$B$5000,A19) -> 53 | C19: =COUNTIF(発見物一覧!$E$2:'発見物一覧'!$E$5000,A19&"発見済み") -> 0 | D19: =C19/B19 -> 0 | E19: =B19-C19 -> 53
A20: 全て | B20: =SUM(B2:B19) -> 3120 | C20: =SUM(C2:C19) -> 0 | D20: =C20/B20 -> 0 | E20: =B20-C20 -> 3120

Sheet 注意
A1: 名前の重複について
A2: 下記の発見物は同名のものが複数あります。
A3: それぞれ区別するために、発見物名の後ろに（）をつけ注釈を記入しています。
A5: 受胎告知（ダ・ヴィンチ） | B5: 美術品
A6: 受胎告知（アンジェリコ） | B6: 美術品
A7: 受胎告知（マルティーニ） | B7: 美術品
A9: ラオコーン（腕曲げ） | B9: 美術品
A10: ラオコーン（腕伸ばし） | B10: 美術品
A12: 岩窟の聖母（真筆） | B12: 美術品
A13: 岩窟の聖母（祭壇画） | B13: 美術品
A15: 最後の審判（ミケランジェロ） | B15: 美術品
A16: 最後の審判（ヴァザーリ） | B16: 美術品
A18: 聖母戴冠（リッピ） | B18: 美術品
A19: 聖母戴冠（アンジェリコ） | B19: 美術品
A21: 聖母被昇天（ルーベンス） | B21: 美術品
... A34: レア（天文） | B34: 天文
A38: デアセド岬 or デセアド岬？ 現在はどちらか不明 デアセド岬で収録しています
A39: 瑠璃製の杯 or 瑠璃製の盃？ 現在はどちらか不明 瑠璃製の杯で収録しています
